BEGIN:VCALENDAR
VERSION:2.0
PRODID:-//Zumba Master Class Nederland - ECPv6.15.20//NONSGML v1.0//EN
CALSCALE:GREGORIAN
METHOD:PUBLISH
X-ORIGINAL-URL:https://zumbamasterclass.nl
X-WR-CALDESC:Events for Zumba Master Class Nederland
REFRESH-INTERVAL;VALUE=DURATION:PT1H
X-Robots-Tag:noindex
X-PUBLISHED-TTL:PT1H
BEGIN:VTIMEZONE
TZID:Europe/Amsterdam
BEGIN:DAYLIGHT
TZOFFSETFROM:+0100
TZOFFSETTO:+0200
TZNAME:CEST
DTSTART:20250330T010000
END:DAYLIGHT
BEGIN:STANDARD
TZOFFSETFROM:+0200
TZOFFSETTO:+0100
TZNAME:CET
DTSTART:20251026T010000
END:STANDARD
BEGIN:DAYLIGHT
TZOFFSETFROM:+0100
TZOFFSETTO:+0200
TZNAME:CEST
DTSTART:20260329T010000
END:DAYLIGHT
BEGIN:STANDARD
TZOFFSETFROM:+0200
TZOFFSETTO:+0100
TZNAME:CET
DTSTART:20261025T010000
END:STANDARD
BEGIN:DAYLIGHT
TZOFFSETFROM:+0100
TZOFFSETTO:+0200
TZNAME:CEST
DTSTART:20270328T010000
END:DAYLIGHT
BEGIN:STANDARD
TZOFFSETFROM:+0200
TZOFFSETTO:+0100
TZNAME:CET
DTSTART:20271031T010000
END:STANDARD
END:VTIMEZONE
BEGIN:VEVENT
DTSTART;TZID=Europe/Amsterdam:20260411T140000
DTEND;TZID=Europe/Amsterdam:20260411T170000
DTSTAMP:20260420T062045
CREATED:20260105T115923Z
LAST-MODIFIED:20260105T120126Z
UID:10102-1775916000-1775926800@zumbamasterclass.nl
SUMMARY:Joel Navarro: Masterclass Reloaded
DESCRIPTION:Joel Navarro: Masterclass Reloaded is back in Eindhoven!\n📅 Saturday\, April 11\, 2026📍 Wijkcentrum Unitas\, EindhovenHosts: Danielle & Monique \nJoel Navarro (ZIN Joel) is a New York-based Zumba instructor and dance-fitness choreographer who delivers high-energy masterclasses with a strong performance vibe. His classes blend Latin rhythms like salsa\, cumbia\, merengue and samba with urban styles such as reggaeton\, bringing club energy to a fitness format while still keeping the moves clear and followable. \nPlease be aware: There are a limited amount of tickets available\, so make sure you get your tickets in time.
URL:https://zumbamasterclass.nl/event/joel-navarro-masterclass-reloaded/
LOCATION:Wijkcentrum Unitas Eindhoven\, Vlokhovenseweg 49\, Eindhoven\, Noord Brabant\, 5625 WV\, Netherlands
END:VEVENT
END:VCALENDAR