BEGIN:VCALENDAR
VERSION:2.0
PRODID:-//Zumba Master Class Nederland - ECPv6.15.20//NONSGML v1.0//EN
CALSCALE:GREGORIAN
METHOD:PUBLISH
X-WR-CALNAME:Zumba Master Class Nederland
X-ORIGINAL-URL:https://zumbamasterclass.nl
X-WR-CALDESC:Events for Zumba Master Class Nederland
REFRESH-INTERVAL;VALUE=DURATION:PT1H
X-Robots-Tag:noindex
X-PUBLISHED-TTL:PT1H
BEGIN:VTIMEZONE
TZID:Europe/Amsterdam
BEGIN:DAYLIGHT
TZOFFSETFROM:+0100
TZOFFSETTO:+0200
TZNAME:CEST
DTSTART:20240331T010000
END:DAYLIGHT
BEGIN:STANDARD
TZOFFSETFROM:+0200
TZOFFSETTO:+0100
TZNAME:CET
DTSTART:20241027T010000
END:STANDARD
BEGIN:DAYLIGHT
TZOFFSETFROM:+0100
TZOFFSETTO:+0200
TZNAME:CEST
DTSTART:20250330T010000
END:DAYLIGHT
BEGIN:STANDARD
TZOFFSETFROM:+0200
TZOFFSETTO:+0100
TZNAME:CET
DTSTART:20251026T010000
END:STANDARD
BEGIN:DAYLIGHT
TZOFFSETFROM:+0100
TZOFFSETTO:+0200
TZNAME:CEST
DTSTART:20260329T010000
END:DAYLIGHT
BEGIN:STANDARD
TZOFFSETFROM:+0200
TZOFFSETTO:+0100
TZNAME:CET
DTSTART:20261025T010000
END:STANDARD
END:VTIMEZONE
BEGIN:VTIMEZONE
TZID:UTC
BEGIN:STANDARD
TZOFFSETFROM:+0000
TZOFFSETTO:+0000
TZNAME:UTC
DTSTART:20210101T000000
END:STANDARD
END:VTIMEZONE
BEGIN:VEVENT
DTSTART;VALUE=DATE:20250621
DTEND;VALUE=DATE:20250622
DTSTAMP:20260420T062743
CREATED:20250325T221629Z
LAST-MODIFIED:20250325T221629Z
UID:9458-1750464000-1750550399@zumbamasterclass.nl
SUMMARY:Zumba Master Class with Joel Navarro
DESCRIPTION:
URL:https://zumbamasterclass.nl/event/zumba-master-class-with-joel-navarro/
LOCATION:ZMC Joel Navarro\, Eindhoven\, Noord Brabant\, Netherlands
ORGANIZER;CN="Danielle":MAILTO:info@zumbamasterclass.nl
END:VEVENT
BEGIN:VEVENT
DTSTART;VALUE=DATE:20221213
DTEND;VALUE=DATE:20221214
DTSTAMP:20260420T062743
CREATED:20221126T205537Z
LAST-MODIFIED:20221213T153607Z
UID:2689-1670889600-1670975999@zumbamasterclass.nl
SUMMARY:Zumba Master Class Volume 4 with Loretta Bates
DESCRIPTION:Zumba Master Class Volume 4 with Loretta Bates
URL:https://zumbamasterclass.nl/event/zumba-master-class-volume-4-with-loretta-bates/
LOCATION:Tennishal Eindhoven-Noord\, Vijfkamplaan 10\, Eindhoven\, Noord Brabant\, 5624 EB\, Netherlands
ATTACH;FMTTYPE=image/png:https://zumbamasterclass.nl/wp-content/uploads/2022/11/zumbavol4ticket.png
ORGANIZER;CN="Danielle":MAILTO:info@zumbamasterclass.nl
END:VEVENT
END:VCALENDAR